﻿BEGIN:VCALENDAR
VERSION:2.0
PRODID:-//Echiquier D&#039;Azur Fréjus Saint-Raphaël - ECPv6.15.18//NONSGML v1.0//EN
CALSCALE:GREGORIAN
METHOD:PUBLISH
X-WR-CALNAME:Echiquier D&#039;Azur Fréjus Saint-Raphaël
X-ORIGINAL-URL:https://www.echiquier-azur.fr
X-WR-CALDESC:Évènements pour Echiquier D&#039;Azur Fréjus Saint-Raphaël
REFRESH-INTERVAL;VALUE=DURATION:PT1H
X-Robots-Tag:noindex
X-PUBLISHED-TTL:PT1H
BEGIN:VTIMEZONE
TZID:Europe/Paris
BEGIN:DAYLIGHT
TZOFFSETFROM:+0100
TZOFFSETTO:+0200
TZNAME:CEST
DTSTART:20220327T010000
END:DAYLIGHT
BEGIN:STANDARD
TZOFFSETFROM:+0200
TZOFFSETTO:+0100
TZNAME:CET
DTSTART:20221030T010000
END:STANDARD
BEGIN:DAYLIGHT
TZOFFSETFROM:+0100
TZOFFSETTO:+0200
TZNAME:CEST
DTSTART:20230326T010000
END:DAYLIGHT
BEGIN:STANDARD
TZOFFSETFROM:+0200
TZOFFSETTO:+0100
TZNAME:CET
DTSTART:20231029T010000
END:STANDARD
BEGIN:DAYLIGHT
TZOFFSETFROM:+0100
TZOFFSETTO:+0200
TZNAME:CEST
DTSTART:20240331T010000
END:DAYLIGHT
BEGIN:STANDARD
TZOFFSETFROM:+0200
TZOFFSETTO:+0100
TZNAME:CET
DTSTART:20241027T010000
END:STANDARD
END:VTIMEZONE
BEGIN:VEVENT
DTSTART;TZID=Europe/Paris:20230514T093000
DTEND;TZID=Europe/Paris:20230514T170000
DTSTAMP:20260420T232301
CREATED:20230407T063023Z
LAST-MODIFIED:20230407T063023Z
UID:2776-1684056600-1684083600@www.echiquier-azur.fr
SUMMARY:Rapide par Equipes Fréjus Saint Raphaël
DESCRIPTION:
URL:https://www.echiquier-azur.fr/event/rapide-par-equipes-frejus-saint-raphael/
LOCATION:Espace municipal le Bateau Qu’ai d’Octave Port Fréjus\, Quai d'Octave\, 83600 Fréjus\, Fréjus\, Var\, 83600\, France
ORGANIZER;CN="Echiquier d'Azur Fr%C3%A9jus Saint-Rapha%C3%ABl":MAILTO:vieil.hibou@gmail.com
END:VEVENT
END:VCALENDAR