﻿BEGIN:VCALENDAR
VERSION:2.0
PRODID:-//Echiquier D&#039;Azur Fréjus Saint-Raphaël - ECPv6.15.18//NONSGML v1.0//EN
CALSCALE:GREGORIAN
METHOD:PUBLISH
X-WR-CALNAME:Echiquier D&#039;Azur Fréjus Saint-Raphaël
X-ORIGINAL-URL:https://www.echiquier-azur.fr
X-WR-CALDESC:Évènements pour Echiquier D&#039;Azur Fréjus Saint-Raphaël
REFRESH-INTERVAL;VALUE=DURATION:PT1H
X-Robots-Tag:noindex
X-PUBLISHED-TTL:PT1H
BEGIN:VTIMEZONE
TZID:Europe/Paris
BEGIN:DAYLIGHT
TZOFFSETFROM:+0100
TZOFFSETTO:+0200
TZNAME:CEST
DTSTART:20220327T010000
END:DAYLIGHT
BEGIN:STANDARD
TZOFFSETFROM:+0200
TZOFFSETTO:+0100
TZNAME:CET
DTSTART:20221030T010000
END:STANDARD
BEGIN:DAYLIGHT
TZOFFSETFROM:+0100
TZOFFSETTO:+0200
TZNAME:CEST
DTSTART:20230326T010000
END:DAYLIGHT
BEGIN:STANDARD
TZOFFSETFROM:+0200
TZOFFSETTO:+0100
TZNAME:CET
DTSTART:20231029T010000
END:STANDARD
BEGIN:DAYLIGHT
TZOFFSETFROM:+0100
TZOFFSETTO:+0200
TZNAME:CEST
DTSTART:20240331T010000
END:DAYLIGHT
BEGIN:STANDARD
TZOFFSETFROM:+0200
TZOFFSETTO:+0100
TZNAME:CET
DTSTART:20241027T010000
END:STANDARD
END:VTIMEZONE
BEGIN:VEVENT
DTSTART;TZID=Europe/Paris:20230402T140000
DTEND;TZID=Europe/Paris:20230402T200000
DTSTAMP:20260421T011155
CREATED:20230319T105055Z
LAST-MODIFIED:20230319T105055Z
UID:2756-1680444000-1680465600@www.echiquier-azur.fr
SUMMARY:Interclubs Adultes Dernières Rondes
DESCRIPTION:N3 à Boulouris R9 à 14h \nN4 à Boulouris R7 à 14h \nD1 et D1 CCAS à Cuers à 10h et 14h R6 et R7
URL:https://www.echiquier-azur.fr/event/interclubs-adultes-dernieres-rondes/
LOCATION:Mairie annexe de Boulouris Salle Laforest\, boulevard des mimosas\, Saint-Raphaël\, Var\, 83700\, France
ORGANIZER;CN="Echiquier d'Azur Fr%C3%A9jus Saint-Rapha%C3%ABl":MAILTO:vieil.hibou@gmail.com
END:VEVENT
BEGIN:VEVENT
DTSTART;TZID=Europe/Paris:20230408T093000
DTEND;TZID=Europe/Paris:20230408T173000
DTSTAMP:20260421T011155
CREATED:20230322T174652Z
LAST-MODIFIED:20230322T174652Z
UID:2758-1680946200-1680975000@www.echiquier-azur.fr
SUMMARY:Championnat Rapide Féminin PACA Zid CAZ
DESCRIPTION:
URL:https://www.echiquier-azur.fr/event/championnat-rapide-feminin-paca-zid-caz/
LOCATION:Maison des Associations\, rue de la soleillette\, Saint-Raphaël\, Var\, 83700\, France
ORGANIZER;CN="Echiquier d'Azur Fr%C3%A9jus Saint-Rapha%C3%ABl":MAILTO:vieil.hibou@gmail.com
END:VEVENT
BEGIN:VEVENT
DTSTART;TZID=Europe/Paris:20230415T100000
DTEND;TZID=Europe/Paris:20230415T153000
DTSTAMP:20260421T011155
CREATED:20230401T062744Z
LAST-MODIFIED:20230401T062744Z
UID:2770-1681552800-1681572600@www.echiquier-azur.fr
SUMMARY:Rapide Jeunes Paque 2023
DESCRIPTION:
URL:https://www.echiquier-azur.fr/event/rapide-jeunes-paque-2023/
LOCATION:Maison des Associations\, rue de la soleillette\, Saint-Raphaël\, Var\, 83700\, France
ATTACH;FMTTYPE=image/jpeg:https://www.echiquier-azur.fr/wp-content/uploads/2023/04/Tournoi-Paques_page-0001-e1680330214412.jpg
ORGANIZER;CN="Echiquier d'Azur Fr%C3%A9jus Saint-Rapha%C3%ABl":MAILTO:vieil.hibou@gmail.com
END:VEVENT
END:VCALENDAR